BEGIN:VCALENDAR
VERSION:2.0
PRODID:-//eventon.com NONSGML v1.0//EN
CALSCALE:GREGORIAN
METHOD:PUBLISH
BEGIN:VEVENT
UID:69e618b7b603f
DTSTAMP:20260420T121447Z
DTSTART:20260511T180000Z
DTEND:20260511T190000Z
LOCATION:
SUMMARY:Schwanger­schafts­yoga
DESCRIPTION:Schwangerschaftsyoga im kursraum.online – regelmässig Zeit f
 ür dich und dein Körper.\nhttps://kursraum.online/events/schwangerschafts
 yoga/var/ri-6.l-L1
URL:https://kursraum.online/events/schwangerschaftsyoga/var/ri-6.l-L1
END:VEVENT
END:VCALENDAR