BEGIN:VCALENDAR
VERSION:2.0
PRODID:-//eventon.com NONSGML v1.0//EN
CALSCALE:GREGORIAN
METHOD:PUBLISH
BEGIN:VEVENT
UID:69e61899b4042
DTSTAMP:20260420T121417Z
DTSTART:20260629T183000Z
DTEND:20260629T193000Z
LOCATION:
SUMMARY:Mami Yoga
DESCRIPTION:Yoga nach der Geburt im kursraum.online – Kraft und Ruhe für
  dich als Mama.\nhttps://kursraum.online/events/mami-yoga-montag/var/ri-13.
 l-L1
URL:https://kursraum.online/events/mami-yoga-montag/var/ri-13.l-L1
END:VEVENT
END:VCALENDAR