BEGIN:VCALENDAR
VERSION:2.0
PRODID:-//eventon.com NONSGML v1.0//EN
CALSCALE:GREGORIAN
METHOD:PUBLISH
BEGIN:VEVENT
UID:69e5ec5e64c23
DTSTAMP:20260420T090534Z
DTSTART:20260527T200000Z
DTEND:20260527T210000Z
LOCATION:
SUMMARY:Mami Yoga
DESCRIPTION:Yoga nach der Geburt im kursraum.online – Kraft und Ruhe für
  dich als Mama.\nhttps://kursraum.online/events/mami-yoga-mittwoch/var/ri-4
 .l-L1
URL:https://kursraum.online/events/mami-yoga-mittwoch/var/ri-4.l-L1
END:VEVENT
END:VCALENDAR