BEGIN:VCALENDAR
VERSION:2.0
PRODID:-//eventon.com NONSGML v1.0//EN
CALSCALE:GREGORIAN
METHOD:PUBLISH
BEGIN:VEVENT
UID:69e619156b0c8
DTSTAMP:20260420T121621Z
DTSTART:20260106T080000Z
DTEND:20260106T090000Z
LOCATION:
SUMMARY:Rückbildungskurs
DESCRIPTION:Offener Rückbildungskurs nach Pilates Care. Einstieg jederzeit
  möglich. Im 8er Abo oder einzeln buchbar.\nhttps://kursraum.online/events
 /rueckbildungskurs-di9/
URL:https://kursraum.online/events/rueckbildungskurs-di9/
END:VEVENT
END:VCALENDAR